BEGIN:VCALENDAR
VERSION:2.0
PRODID:-//wp-events-plugin.com//7.2.2.1//EN
TZID:Europe/Paris
X-WR-TIMEZONE:Europe/Paris
BEGIN:VEVENT
UID:2885@liencanin.com
DTSTART;TZID=Europe/Paris:20260531T093000
DTEND;TZID=Europe/Paris:20260531T103000
DTSTAMP:20251113T231033Z
URL:https://www.liencanin.com/events/cours-collectifs-doberythmee/
SUMMARY:Stage d'Obérythmée
DESCRIPTION:
ATTACH;FMTTYPE=image/jpeg:https://www.liencanin.com/wp-content/uploads/202
 5/10/pexels-miami302-16667556-scaled-e1759540035452.jpg
CATEGORIES:Stages spécialisés
LOCATION:Complexe Sportif Des Lônes de Vernaison\, Rue Port Puys\, VERNAIS
 ON\, 69390\, France
GEO:45.646644;4.815232
X-APPLE-STRUCTURED-LOCATION;VALUE=URI;X-ADDRESS=Rue Port Puys\, VERNAISON\,
  69390\, France;X-APPLE-RADIUS=100;X-TITLE=Complexe Sportif Des Lônes de 
 Vernaison:geo:45.646644,4.815232
END:VEVENT
BEGIN:VTIMEZONE
TZID:Europe/Paris
X-LIC-LOCATION:Europe/Paris
BEGIN:DAYLIGHT
DTSTART:20260329T030000
TZOFFSETFROM:+0100
TZOFFSETTO:+0200
TZNAME:CEST
END:DAYLIGHT
END:VTIMEZONE
END:VCALENDAR